BEGIN:VCALENDAR
VERSION:2.0
PRODID:-//Paroconseil - ECPv6.15.17.1//NONSGML v1.0//EN
CALSCALE:GREGORIAN
METHOD:PUBLISH
X-ORIGINAL-URL:https://paroconseil.ca
X-WR-CALDESC:Évènements pour Paroconseil
REFRESH-INTERVAL;VALUE=DURATION:PT1H
X-Robots-Tag:noindex
X-PUBLISHED-TTL:PT1H
BEGIN:VTIMEZONE
TZID:America/New_York
BEGIN:DAYLIGHT
TZOFFSETFROM:-0500
TZOFFSETTO:-0400
TZNAME:EDT
DTSTART:20250309T070000
END:DAYLIGHT
BEGIN:STANDARD
TZOFFSETFROM:-0400
TZOFFSETTO:-0500
TZNAME:EST
DTSTART:20251102T060000
END:STANDARD
BEGIN:DAYLIGHT
TZOFFSETFROM:-0500
TZOFFSETTO:-0400
TZNAME:EDT
DTSTART:20260308T070000
END:DAYLIGHT
BEGIN:STANDARD
TZOFFSETFROM:-0400
TZOFFSETTO:-0500
TZNAME:EST
DTSTART:20261101T060000
END:STANDARD
BEGIN:DAYLIGHT
TZOFFSETFROM:-0500
TZOFFSETTO:-0400
TZNAME:EDT
DTSTART:20270314T070000
END:DAYLIGHT
BEGIN:STANDARD
TZOFFSETFROM:-0400
TZOFFSETTO:-0500
TZNAME:EST
DTSTART:20271107T060000
END:STANDARD
END:VTIMEZONE
BEGIN:VEVENT
DTSTART;VALUE=DATE:20261007
DTEND;VALUE=DATE:20261008
DTSTAMP:20260421T214526
CREATED:20260212T204030Z
LAST-MODIFIED:20260212T204030Z
UID:41216-1791331200-1791417599@paroconseil.ca
SUMMARY:Formation Mascouche
DESCRIPTION:
URL:https://paroconseil.ca/calendrier/formation-mascouche-4/
CATEGORIES:Formation
END:VEVENT
BEGIN:VEVENT
DTSTART;VALUE=DATE:20261014
DTEND;VALUE=DATE:20261016
DTSTAMP:20260421T214526
CREATED:20260304T120711Z
LAST-MODIFIED:20260304T120711Z
UID:41274-1791936000-1792108799@paroconseil.ca
SUMMARY:Formation Val-David
DESCRIPTION:
URL:https://paroconseil.ca/calendrier/formation-val-david-3/
CATEGORIES:Formation
END:VEVENT
END:VCALENDAR