BEGIN:VCALENDAR
VERSION:2.0
PRODID:-//Paroconseil - ECPv6.15.17.1//NONSGML v1.0//EN
CALSCALE:GREGORIAN
METHOD:PUBLISH
X-ORIGINAL-URL:https://paroconseil.ca
X-WR-CALDESC:Évènements pour Paroconseil
REFRESH-INTERVAL;VALUE=DURATION:PT1H
X-Robots-Tag:noindex
X-PUBLISHED-TTL:PT1H
BEGIN:VTIMEZONE
TZID:America/New_York
BEGIN:DAYLIGHT
TZOFFSETFROM:-0500
TZOFFSETTO:-0400
TZNAME:EDT
DTSTART:20250309T070000
END:DAYLIGHT
BEGIN:STANDARD
TZOFFSETFROM:-0400
TZOFFSETTO:-0500
TZNAME:EST
DTSTART:20251102T060000
END:STANDARD
BEGIN:DAYLIGHT
TZOFFSETFROM:-0500
TZOFFSETTO:-0400
TZNAME:EDT
DTSTART:20260308T070000
END:DAYLIGHT
BEGIN:STANDARD
TZOFFSETFROM:-0400
TZOFFSETTO:-0500
TZNAME:EST
DTSTART:20261101T060000
END:STANDARD
BEGIN:DAYLIGHT
TZOFFSETFROM:-0500
TZOFFSETTO:-0400
TZNAME:EDT
DTSTART:20270314T070000
END:DAYLIGHT
BEGIN:STANDARD
TZOFFSETFROM:-0400
TZOFFSETTO:-0500
TZNAME:EST
DTSTART:20271107T060000
END:STANDARD
END:VTIMEZONE
BEGIN:VEVENT
DTSTART;VALUE=DATE:20260822
DTEND;VALUE=DATE:20260907
DTSTAMP:20260421T201550
CREATED:20260420T154736Z
LAST-MODIFIED:20260420T155214Z
UID:41421-1787356800-1788739199@paroconseil.ca
SUMMARY:Ressourcement
DESCRIPTION:
URL:https://paroconseil.ca/calendrier/ressourcement-5/
CATEGORIES:Ressourcement
END:VEVENT
BEGIN:VEVENT
DTSTART;VALUE=DATE:20260923
DTEND;VALUE=DATE:20260926
DTSTAMP:20260421T201550
CREATED:20260304T120645Z
LAST-MODIFIED:20260304T120645Z
UID:41272-1790121600-1790380799@paroconseil.ca
SUMMARY:Formation Val-David
DESCRIPTION:
URL:https://paroconseil.ca/calendrier/formation-val-david-2/
CATEGORIES:Formation
END:VEVENT
END:VCALENDAR